35.221691410953902
0.000000000000000
0.000000000000000
-35.221691410953781
-903381.233332629550000
1459122.389611988300000
