0.000259292951612
0.000000000000000
0.000000000000000
-0.000259292951612
-106.033967614675870
35.750400648945245
