0.000286481034631
0.000000000000000
0.000000000000000
-0.000286481034631
-106.044759037471540
35.757839675395878
